BEGIN:VCALENDAR
VERSION:2.0
PRODID:-//217.160.0.180//NONSGML kigkonsult.se iCalcreator 2.20//
CALSCALE:GREGORIAN
METHOD:PUBLISH
X-WR-TIMEZONE:UTC
BEGIN:VEVENT
UID:event3303@Netzwerk-Broich
DTSTAMP:20260420T123937Z
CATEGORIES:Netzwerk
DESCRIPTION:Netzwerk-Frühstück\nKategorie: Netzwerk\nICS-Link: https://netz
 werk-broich.de/index.php?option=com_jem&view=event&id=3303:netzwerk-fruehs
 tueck\n
DTSTART:20260712T100000Z
DTEND:20260712T110000Z
LOCATION:Gemeindehaus Wilhelminenstraße\,Wilhelminenstr. 34\,45479 Mülheim
SUMMARY:Netzwerk-Frühstück
URL:https://netzwerk-broich.de/index.php?option=com_jem&view=event&id=3303:
 netzwerk-fruehstueck
END:VEVENT
END:VCALENDAR
